BEGIN:VCALENDAR
VERSION:2.0
PRODID:-//ChamberMaster//Event Calendar 2.0//EN
METHOD:PUBLISH
X-PUBLISHED-TTL:P3D
REFRESH-INTERVAL:P3D
CALSCALE:GREGORIAN
BEGIN:VEVENT
DTSTART:20230321T224500Z
DTEND:20230322T004500Z
X-MICROSOFT-CDO-ALLDAYEVENT:FALSE
SUMMARY:Storm Spotter Training
DESCRIPTION:The National Weather Service is putting on a free Storm Spotter Training for our county! Learn about severe weather\, severe weather safety\, watches\, warnings and how you can help the National Weather Service as a trained spotter!
X-ALT-DESC;FMTTYPE=text/html:The National Weather Service is putting on a free Storm Spotter Training for our county! Learn about severe weather\, severe weather safety\, watches\, warnings and how you can help the National Weather Service as a trained spotter!
LOCATION:George Culver Community Library 615 Phillips Blvd\, Sauk City Event is not sponsored by the library.
UID:e.1184.30702
SEQUENCE:3
DTSTAMP:20260420T164728Z
URL:http://members.saukprairie.com/events/details/storm-spotter-training-30702
END:VEVENT

END:VCALENDAR
