BEGIN:VCALENDAR
VERSION:2.0
PRODID:-//ChamberMaster//Event Calendar 2.0//EN
METHOD:PUBLISH
X-PUBLISHED-TTL:P3D
REFRESH-INTERVAL:P3D
CALSCALE:GREGORIAN
BEGIN:VEVENT
DTSTART:20180501T150000Z
DTEND:20180501T160000Z
X-MICROSOFT-CDO-ALLDAYEVENT:FALSE
SUMMARY:Storytime Petting Zoo
DESCRIPTION:We're having a Petting Zoo in storytime at the Ruth Culver Community Library Tuesday\, May 1 at 10:30 a.m.  Come meet LIVE baby animals from Leatherberry Acres! (Which animals visit is a surprise.) Traditional Storytime will take place at 10:00 a\,m. before our special visitors arrive.  Contact Beth at 643-8318 with questions.
X-ALT-DESC;FMTTYPE=text/html:We&#39\;re having a Petting Zoo in storytime at the Ruth Culver Community Library Tuesday\, May 1 at 10:30 a.m.&nbsp\; Come meet LIVE baby animals from Leatherberry Acres! (Which animals visit is a surprise.) Traditional Storytime will take place at 10:00 a\,m. before our special visitors arrive.&nbsp\; Contact Beth at 643-8318 with questions.
LOCATION:Ruth Culver Community Library 540 Water Street\, Prairie du Sac
UID:e.1184.18059
SEQUENCE:3
DTSTAMP:20260424T112235Z
URL:http://members.saukprairie.com/events/details/storytime-petting-zoo-18059
END:VEVENT

END:VCALENDAR
