BEGIN:VCALENDAR
VERSION:2.0
PRODID:-//ChamberMaster//Event Calendar 2.0//EN
METHOD:PUBLISH
X-PUBLISHED-TTL:P3D
REFRESH-INTERVAL:P3D
CALSCALE:GREGORIAN
BEGIN:VEVENT
DTSTART;VALUE=DATE:20221125
DTEND;VALUE=DATE:20221126
TRANSP:TRANSPARENT
X-MICROSOFT-CDO-ALLDAYEVENT:TRUE
SUMMARY:Street Light Shopping on Black Friday
DESCRIPTION:Visit local retailers on Black Friday - Holiday sparkle will be out and lighting up the winter sky! (Special "Street Light" Hours vary by location).\n\n\n	The Mixing Bowl Bakery | 5:30am - 5:30pm | 525 Water Street\, Sauk City\n	River Arts Inc. | 9am - 6pm | 590 Water Street\, Prairie du Sac\n	Cameo Antique Mall | 9am - 8pm | 827 Water Street\, Sauk City\n	Rainbow Floral | 9am - 8pm | 541 Water Street\, Prairie du Sac\n	Herb Rx | 10am - 4pm | 603 Water Street\, Sauk City\n	LAF Boutique | 10am - 5pm | 735 Water Street\, Sauk City\n	Flaxen Fleece | 10am - 6pm | 800 Water Street\, Sauk City\n	3 Generations | 10am - 8pm | 421 Water Street\, Suite #107. Prairie du Sac\n	Glitter Girl Gems | 10am - 8pm | 431 Water Street\, Suite #101\, Prairie du Sac\n	It Could Be Yours | 10am - 8pm | 827 Water Street\, Sauk City\n	Stemmed From Grace | 10am - 8pm | 725 Water Street\, Sauk City\n	Unfolded | 10am -8pm | 827 Water Street\, Prairie du Sac\n	Delicias Monakas | 11am - 8pm | 830 Water Street\, Sauk City\n	C2 Juicery | 11am - 2pm | 545 Water Street\, Prairie du Sac\n	Home by Hayley | 4pm - 8pm | 421 Water Street\, Suite #105\, Prairie du Sac\n	ReTwist-T | 4pm - 8pm | 515 Water Street\, Sauk City\n\n\nThank you for supporting local small business
X-ALT-DESC;FMTTYPE=text/html:<div class="xdj266r x11i5rnm xat24cr x1mh8g0r x1vvkbs" style="margin: 0px\; overflow-wrap: break-word\; font-family: &quot\;Segoe UI Historic&quot\;\, &quot\;Segoe UI&quot\;\, Helvetica\, Arial\, sans-serif\; color: rgb(5\, 5\, 5)\; font-size: 15px\;">Visit local retailers on Black Friday - Holiday sparkle will be out and lighting up the winter sky! (Special &quot\;Street Light&quot\; Hours vary by location).</div>\n\n<ul>\n	<li class="xdj266r x11i5rnm xat24cr x1mh8g0r x1vvkbs" style="margin: 0px\; overflow-wrap: break-word\; font-family: &quot\;Segoe UI Historic&quot\;\, &quot\;Segoe UI&quot\;\, Helvetica\, Arial\, sans-serif\; color: rgb(5\, 5\, 5)\; font-size: 15px\;">The Mixing Bowl Bakery | 5:30am - 5:30pm | 525 Water Street\, Sauk City</li>\n	<li class="xdj266r x11i5rnm xat24cr x1mh8g0r x1vvkbs" style="margin: 0px\; overflow-wrap: break-word\; font-family: &quot\;Segoe UI Historic&quot\;\, &quot\;Segoe UI&quot\;\, Helvetica\, Arial\, sans-serif\; color: rgb(5\, 5\, 5)\; font-size: 15px\;">River Arts Inc. | 9am - 6pm | 590 Water Street\, Prairie du Sac</li>\n	<li class="xdj266r x11i5rnm xat24cr x1mh8g0r x1vvkbs" style="margin: 0px\; overflow-wrap: break-word\; font-family: &quot\;Segoe UI Historic&quot\;\, &quot\;Segoe UI&quot\;\, Helvetica\, Arial\, sans-serif\; color: rgb(5\, 5\, 5)\; font-size: 15px\;">Cameo Antique Mall | 9am - 8pm | 827 Water Street\, Sauk City</li>\n	<li class="xdj266r x11i5rnm xat24cr x1mh8g0r x1vvkbs" style="margin: 0px\; overflow-wrap: break-word\; font-family: &quot\;Segoe UI Historic&quot\;\, &quot\;Segoe UI&quot\;\, Helvetica\, Arial\, sans-serif\; color: rgb(5\, 5\, 5)\; font-size: 15px\;">Rainbow Floral | 9am - 8pm | 541 Water Street\, Prairie du Sac</li>\n	<li class="xdj266r x11i5rnm xat24cr x1mh8g0r x1vvkbs" style="margin: 0px\; overflow-wrap: break-word\; font-family: &quot\;Segoe UI Historic&quot\;\, &quot\;Segoe UI&quot\;\, Helvetica\, Arial\, sans-serif\; color: rgb(5\, 5\, 5)\; font-size: 15px\;">Herb Rx | 10am - 4pm | 603 Water Street\, Sauk City</li>\n	<li class="xdj266r x11i5rnm xat24cr x1mh8g0r x1vvkbs" style="margin: 0px\; overflow-wrap: break-word\; font-family: &quot\;Segoe UI Historic&quot\;\, &quot\;Segoe UI&quot\;\, Helvetica\, Arial\, sans-serif\; color: rgb(5\, 5\, 5)\; font-size: 15px\;">LAF Boutique | 10am - 5pm | 735 Water Street\, Sauk City</li>\n	<li class="xdj266r x11i5rnm xat24cr x1mh8g0r x1vvkbs" style="margin: 0px\; overflow-wrap: break-word\; font-family: &quot\;Segoe UI Historic&quot\;\, &quot\;Segoe UI&quot\;\, Helvetica\, Arial\, sans-serif\; color: rgb(5\, 5\, 5)\; font-size: 15px\;">Flaxen Fleece | 10am - 6pm | 800 Water Street\, Sauk City</li>\n	<li class="xdj266r x11i5rnm xat24cr x1mh8g0r x1vvkbs" style="margin: 0px\; overflow-wrap: break-word\; font-family: &quot\;Segoe UI Historic&quot\;\, &quot\;Segoe UI&quot\;\, Helvetica\, Arial\, sans-serif\; color: rgb(5\, 5\, 5)\; font-size: 15px\;">3 Generations | 10am - 8pm | 421 Water Street\, Suite #107. Prairie du Sac</li>\n	<li class="xdj266r x11i5rnm xat24cr x1mh8g0r x1vvkbs" style="margin: 0px\; overflow-wrap: break-word\; font-family: &quot\;Segoe UI Historic&quot\;\, &quot\;Segoe UI&quot\;\, Helvetica\, Arial\, sans-serif\; color: rgb(5\, 5\, 5)\; font-size: 15px\;">Glitter Girl Gems | 10am - 8pm | 431 Water Street\, Suite #101\, Prairie du Sac</li>\n	<li class="xdj266r x11i5rnm xat24cr x1mh8g0r x1vvkbs" style="margin: 0px\; overflow-wrap: break-word\; font-family: &quot\;Segoe UI Historic&quot\;\, &quot\;Segoe UI&quot\;\, Helvetica\, Arial\, sans-serif\; color: rgb(5\, 5\, 5)\; font-size: 15px\;">It Could Be Yours | 10am - 8pm | 827 Water Street\, Sauk City</li>\n	<li class="xdj266r x11i5rnm xat24cr x1mh8g0r x1vvkbs" style="margin: 0px\; overflow-wrap: break-word\; font-family: &quot\;Segoe UI Historic&quot\;\, &quot\;Segoe UI&quot\;\, Helvetica\, Arial\, sans-serif\; color: rgb(5\, 5\, 5)\; font-size: 15px\;">Stemmed From Grace | 10am - 8pm | 725 Water Street\, Sauk City</li>\n	<li class="xdj266r x11i5rnm xat24cr x1mh8g0r x1vvkbs" style="margin: 0px\; overflow-wrap: break-word\; font-family: &quot\;Segoe UI Historic&quot\;\, &quot\;Segoe UI&quot\;\, Helvetica\, Arial\, sans-serif\; color: rgb(5\, 5\, 5)\; font-size: 15px\;">Unfolded | 10am -8pm | 827 Water Street\, Prairie du Sac</li>\n	<li class="xdj266r x11i5rnm xat24cr x1mh8g0r x1vvkbs" style="margin: 0px\; overflow-wrap: break-word\; font-family: &quot\;Segoe UI Historic&quot\;\, &quot\;Segoe UI&quot\;\, Helvetica\, Arial\, sans-serif\; color: rgb(5\, 5\, 5)\; font-size: 15px\;">Delicias Monakas | 11am - 8pm | 830 Water Street\, Sauk City</li>\n	<li class="xdj266r x11i5rnm xat24cr x1mh8g0r x1vvkbs" style="margin: 0px\; overflow-wrap: break-word\; font-family: &quot\;Segoe UI Historic&quot\;\, &quot\;Segoe UI&quot\;\, Helvetica\, Arial\, sans-serif\; color: rgb(5\, 5\, 5)\; font-size: 15px\;">C2 Juicery | 11am - 2pm | 545 Water Street\, Prairie du Sac</li>\n	<li class="xdj266r x11i5rnm xat24cr x1mh8g0r x1vvkbs" style="margin: 0px\; overflow-wrap: break-word\; font-family: &quot\;Segoe UI Historic&quot\;\, &quot\;Segoe UI&quot\;\, Helvetica\, Arial\, sans-serif\; color: rgb(5\, 5\, 5)\; font-size: 15px\;">Home by Hayley | 4pm - 8pm | 421 Water Street\, Suite #105\, Prairie du Sac</li>\n	<li class="xdj266r x11i5rnm xat24cr x1mh8g0r x1vvkbs" style="margin: 0px\; overflow-wrap: break-word\; font-family: &quot\;Segoe UI Historic&quot\;\, &quot\;Segoe UI&quot\;\, Helvetica\, Arial\, sans-serif\; color: rgb(5\, 5\, 5)\; font-size: 15px\;">ReTwist-T | 4pm - 8pm | 515 Water Street\, Sauk City</li>\n</ul>\n\n<div class="x11i5rnm xat24cr x1mh8g0r x1vvkbs xtlvy1s" style="margin: 0.5em 0px 0px\; overflow-wrap: break-word\; font-family: &quot\;Segoe UI Historic&quot\;\, &quot\;Segoe UI&quot\;\, Helvetica\, Arial\, sans-serif\; color: rgb(5\, 5\, 5)\; font-size: 15px\;">Thank you for supporting local small business</div>\n
LOCATION:
UID:e.1184.28785
SEQUENCE:3
DTSTAMP:20260421T020531Z
URL:http://members.saukprairie.com/events/details/street-light-shopping-on-black-friday-28785
END:VEVENT

END:VCALENDAR
