BEGIN:VCALENDAR
VERSION:2.0
PRODID:-//ChamberMaster//Event Calendar 2.0//EN
METHOD:PUBLISH
X-PUBLISHED-TTL:P3D
REFRESH-INTERVAL:P3D
CALSCALE:GREGORIAN
BEGIN:VEVENT
DTSTART;VALUE=DATE:20181231
DTEND;VALUE=DATE:20190101
TRANSP:TRANSPARENT
X-MICROSOFT-CDO-ALLDAYEVENT:TRUE
SUMMARY:Strike in 2019 with Riviera Bowl!
DESCRIPTION:FAMILY THUNDER ALLEY! \n\nMake it a Party with Friends & Family Spin the Wheel to Win Prizes!!!\n\nOffered Noon to 10pm\n\n  One Lane of Thunder Alley Bowling for 2 hours\n\n  Up to 6 guests\n\n  Shoe Rentals\n\n  Any 16" pizza (up to $21.99 value)\n\n  2 pitchers of soda or 1 pitcher of domestic beer\n\nOnly $69.99 + tax\, sorry no coupons\n\n\n\n$ MIDNIGHT MADNESS $\n\nSpin the Wheel to Win Prizes!!!\n\nMidnight Balloon drop - cash and prizes!!!\n\n  Party Favors   Your Favorite Music\n\n  Champagne Toast at Midnight\n\nGREAT DRINK SPECIALS ALL DAY & NIGHT\n\nONLY $15.00 per person! (Min 4 per lane)
X-ALT-DESC;FMTTYPE=text/html:<strong>FAMILY THUNDER ALLEY!&nbsp\;</strong><br />\nMake it a Party with Friends &amp\; Family Spin the Wheel to Win Prizes!!!<br />\nOffered Noon to 10pm<br />\n&bull\; One Lane of Thunder Alley Bowling for 2 hours<br />\n&bull\; Up to 6 guests<br />\n&bull\; Shoe Rentals<br />\n&bull\; Any 16&quot\; pizza (up to $21.99 value)<br />\n&bull\; 2 pitchers of soda or 1 pitcher of domestic beer<br />\nOnly $69.99 + tax\, sorry no coupons<br />\n<br />\n<strong>$ MIDNIGHT MADNESS $</strong><br />\nSpin the Wheel to Win Prizes!!!<br />\nMidnight Balloon drop - cash and prizes!!!<br />\n&bull\; Party Favors &bull\; Your Favorite Music<br />\n&bull\; Champagne Toast at Midnight<br />\nGREAT DRINK SPECIALS ALL DAY &amp\; NIGHT<br />\nONLY $15.00 per person! (Min 4 per lane)
LOCATION:
UID:e.1184.21614
SEQUENCE:3
DTSTAMP:20260424T003959Z
URL:http://members.saukprairie.com/events/details/strike-in-2019-with-riviera-bowl-21614
END:VEVENT

END:VCALENDAR
