BEGIN:VCALENDAR
VERSION:2.0
PRODID:-//ChamberMaster//Event Calendar 2.0//EN
METHOD:PUBLISH
X-PUBLISHED-TTL:P3D
REFRESH-INTERVAL:P3D
CALSCALE:GREGORIAN
BEGIN:VEVENT
DTSTART:20180709T180000Z
DTEND:20180709T190000Z
X-MICROSOFT-CDO-ALLDAYEVENT:FALSE
SUMMARY:Stuart Stotts Concert
DESCRIPTION:Don't miss award winning singer\, author and storyteller Stuart Stotts at the Ruth Culver Community Library Monday\, July 9 at 1:00 p.m.  This event will be full of music and movement and is sure to be fun for children of all ages! Contact Beth at 643-8318 with questions.
X-ALT-DESC;FMTTYPE=text/html:Don&#39\;t miss award winning singer\, author and storyteller Stuart Stotts at the Ruth Culver Community Library Monday\, July 9 at 1:00 p.m.&nbsp\; This event will be full of music and movement and is sure to be fun for children of all ages! Contact Beth at 643-8318 with questions.
LOCATION:Ruth Culver Community Library 540 Water Street\, Prairie du Sac
UID:e.1184.18117
SEQUENCE:3
DTSTAMP:20260424T082606Z
URL:http://members.saukprairie.com/events/details/stuart-stotts-concert-18117
END:VEVENT

END:VCALENDAR
