BEGIN:VCALENDAR
VERSION:2.0
PRODID:-//ChamberMaster//Event Calendar 2.0//EN
METHOD:PUBLISH
X-PUBLISHED-TTL:P3D
REFRESH-INTERVAL:P3D
CALSCALE:GREGORIAN
BEGIN:VEVENT
DTSTART:20230918T230000Z
DTEND:20230919T000000Z
X-MICROSOFT-CDO-ALLDAYEVENT:FALSE
SUMMARY:Stuffed Animal Sleepover
DESCRIPTION:Children can bring a stuffed animal or toy (one they can leave overnight) for a very special storytime. They'll register their friends\, listen to bedtime stories\, then tuck them in and say goodnight. We'll document their adventures and shenanigans on our Facebook and Instagram pages. Each stuffed animal/toy will go home the next day with a certificate and photos showing how much fun they had at their library sleepover!
X-ALT-DESC;FMTTYPE=text/html:Children can bring a stuffed animal or toy (one they can leave overnight) for a very special storytime. They&#39\;ll register their friends\, listen to bedtime stories\, then tuck them in and say goodnight. We&#39\;ll document their adventures and shenanigans on our Facebook and Instagram pages. Each stuffed animal/toy will go home the next day with a certificate and photos showing how much fun they had at their library sleepover!
LOCATION:615 Phillips Blvd. Sauk City\, WI 53583
UID:e.1184.30980
SEQUENCE:3
DTSTAMP:20260420T074118Z
URL:http://members.saukprairie.com/events/details/stuffed-animal-sleepover-09-18-2023-30980
END:VEVENT

END:VCALENDAR
