BEGIN:VCALENDAR
VERSION:2.0
PRODID:-//ChamberMaster//Event Calendar 2.0//EN
METHOD:PUBLISH
X-PUBLISHED-TTL:P3D
REFRESH-INTERVAL:P3D
CALSCALE:GREGORIAN
BEGIN:VEVENT
DTSTART:20191004T220000Z
DTEND:20191004T230000Z
X-MICROSOFT-CDO-ALLDAYEVENT:FALSE
SUMMARY:Stuffed Animal Sleepover -Drop Off
DESCRIPTION:Children are invited to bring a stuffed animal to a Stuffed Animal Sleepover. Enjoy stories\, crafts and snacks while the library is closed! Children and parents pick up their stuffed animals the next day and view photos of their adventures. Children under 6 must be accompanied by an adult. Contact Becky with questions at 608-643-8346.
X-ALT-DESC;FMTTYPE=text/html:Children are invited to bring a stuffed animal to a Stuffed Animal Sleepover. Enjoy stories\, crafts and snacks while the library is closed! Children and parents pick up their stuffed animals the next day and view photos of their adventures. Children under 6 must be accompanied by an adult. Contact Becky with questions at 608-643-8346.
LOCATION:515 Water Street Sauk City
UID:e.1184.23159
SEQUENCE:3
DTSTAMP:20260423T095419Z
URL:http://members.saukprairie.com/events/details/stuffed-animal-sleepover-drop-off-23159
END:VEVENT

END:VCALENDAR
