BEGIN:VCALENDAR
VERSION:2.0
PRODID:-//ChamberMaster//Event Calendar 2.0//EN
METHOD:PUBLISH
X-PUBLISHED-TTL:P3D
REFRESH-INTERVAL:P3D
CALSCALE:GREGORIAN
BEGIN:VEVENT
DTSTART:20191125T190000Z
DTEND:20191125T203000Z
X-MICROSOFT-CDO-ALLDAYEVENT:FALSE
SUMMARY:Stuffed Turkey Craft
DESCRIPTION:It's Turkey Time! Kids\, ages 6 and up\, can visit the library to make a colorful turkey decoration just in time for Thanksgiving. The kids will need to be able to tie knots for this craft.\n\nCall us or visit the library to sign up.
X-ALT-DESC;FMTTYPE=text/html:It&rsquo\;s Turkey Time! Kids\, ages 6 and up\, can visit the library to make a colorful turkey decoration just in time for Thanksgiving. The kids will need to be able to tie knots for this craft.<br />\nCall us or visit the library to sign up.
LOCATION:515 Water St Sauk City\, WI 53583
UID:e.1184.23630
SEQUENCE:3
DTSTAMP:20260423T083224Z
URL:http://members.saukprairie.com/events/details/stuffed-turkey-craft-23630
END:VEVENT

END:VCALENDAR
