BEGIN:VCALENDAR
VERSION:2.0
PRODID:-//ChamberMaster//Event Calendar 2.0//EN
METHOD:PUBLISH
X-PUBLISHED-TTL:P3D
REFRESH-INTERVAL:P3D
CALSCALE:GREGORIAN
BEGIN:VEVENT
DTSTART:20220720T150000Z
DTEND:20220720T170000Z
X-MICROSOFT-CDO-ALLDAYEVENT:FALSE
SUMMARY:Summer Fiber Artist Session 1
DESCRIPTION:Learn to dye a mini skein of yarn\, use that yarn to weave a mug rug\, knit a cowl\, then weave a decorative wall hanging. Open to students 6th-12th grade. \n\n\n\nTo sign up\, stop in to the store\, or call. When signing up\, please be sure you can commit to all the classes and the work required. If class requires materials be purchased from the store\, please do so and prepay prior to the first day of class. Please have materials and any prerequisite work completed before the start of class. If you need to cancel\, we require 72 hours notice.
X-ALT-DESC;FMTTYPE=text/html:<font color="#000000" face="Karla"><span style="font-size: 14px\;">Learn to dye a mini skein of yarn\, use that yarn to weave a mug rug\, knit a cowl\, then weave a decorative wall hanging</span></font><span style="color: rgb(0\, 0\, 0)\; font-family: Karla\; font-size: 14px\;">.&nbsp\;</span><font color="#000000" face="Karla"><span style="font-size: 14px\;">Open to students 6th-12th grade.&nbsp\;</span></font><br />\n<br />\n<span style="color: rgb(0\, 0\, 0)\; font-family: Karla\; font-size: 14px\;">To sign up\, stop in to the store\, or call. When signing up\, please be sure you can commit to all the classes and the work required. If class requires materials be purchased from the store\, please do so and prepay prior to the first day of class. Please have materials and any prerequisite work completed before the start of class. If you need to cancel\, we require 72 hours notice.</span>
LOCATION:Flaxen Fleece: 800 Water St\, Sauk City
UID:e.1184.27943
SEQUENCE:3
DTSTAMP:20260421T120429Z
URL:http://members.saukprairie.com/events/details/summer-fiber-artist-session-1-27943
END:VEVENT

END:VCALENDAR
