BEGIN:VCALENDAR
VERSION:2.0
PRODID:-//ChamberMaster//Event Calendar 2.0//EN
METHOD:PUBLISH
X-PUBLISHED-TTL:P3D
REFRESH-INTERVAL:P3D
CALSCALE:GREGORIAN
BEGIN:VEVENT
DTSTART:20220810T150000Z
DTEND:20220810T170000Z
X-MICROSOFT-CDO-ALLDAYEVENT:FALSE
SUMMARY:Summer Fiber Artist Session 2
DESCRIPTION:Learn to crochet a snow globe ornament\, turtle coaster\, and a goldfish bag. Open to students 6th-12th grade.\n\n\n\nTo sign up\, stop in to the store\, or call. When signing up\, please be sure you can commit to all the classes and the work required. If class requires materials be purchased from the store\, please do so and prepay prior to the first day of class. Please have materials and any prerequisite work completed before the start of class. If you need to cancel\, we require 72 hours notice.
X-ALT-DESC;FMTTYPE=text/html:<span style="color: rgb(0\, 0\, 0)\; font-family: Karla\; font-size: 14px\;">Learn to crochet a snow globe ornament\, turtle&nbsp\;coaster\, and a goldfish bag. Open to students 6th-12th grade.<br />\n<br />\nTo sign up\, stop in to the store\, or call. When signing up\, please be sure you can commit to all the classes and the work required. If class requires materials be purchased from the store\, please do so and prepay prior to the first day of class. Please have materials and any prerequisite work completed before the start of class. If you need to cancel\, we require 72 hours notice.</span>
LOCATION:Flaxen Fleece: 800 Water St\, Sauk City
UID:e.1184.27949
SEQUENCE:3
DTSTAMP:20260421T073810Z
URL:http://members.saukprairie.com/events/details/summer-fiber-artist-session-2-27949
END:VEVENT

END:VCALENDAR
