BEGIN:VCALENDAR
VERSION:2.0
PRODID:-//ChamberMaster//Event Calendar 2.0//EN
METHOD:PUBLISH
X-PUBLISHED-TTL:P3D
REFRESH-INTERVAL:P3D
CALSCALE:GREGORIAN
BEGIN:VEVENT
DTSTART:20220517T150000Z
DTEND:20220517T170000Z
X-MICROSOFT-CDO-ALLDAYEVENT:FALSE
SUMMARY:Summer Fiber Artists Session 3
DESCRIPTION:Learn to dye a full skein of yarn! Now that you've practiced\n\nwith the mini skeins\, dye a full skein of yarn. Take it home\n\nto crochet\, knit or weave a project\, all your own. Open to students 6th-12th grade.\n\n\n\nTo sign up\, stop in to the store\, or call. When signing up\, please be sure you can commit to all the classes and the work required. If class requires materials be purchased from the store\, please do so and prepay prior to the first day of class. Please have materials and any prerequisite work completed before the start of class. If you need to cancel\, we require 72 hours notice.
X-ALT-DESC;FMTTYPE=text/html:<span style="color: rgb(0\, 0\, 0)\; font-family: Karla\; font-size: 14px\;">Learn to dye a full skein of yarn! Now that you&#39\;ve practiced</span><br style="box-sizing: inherit\; color: rgb(0\, 0\, 0)\; font-family: Karla\; font-size: 14px\;" />\n<span style="color: rgb(0\, 0\, 0)\; font-family: Karla\; font-size: 14px\;">with the mini skeins\, dye a full skein of yarn. Take it home</span><br style="box-sizing: inherit\; color: rgb(0\, 0\, 0)\; font-family: Karla\; font-size: 14px\;" />\n<span style="color: rgb(0\, 0\, 0)\; font-family: Karla\; font-size: 14px\;">to crochet\, knit or weave a project\, all your own. Open to students 6th-12th grade.<br />\n<br />\nTo sign up\, stop in to the store\, or call. When signing up\, please be sure you can commit to all the classes and the work required. If class requires materials be purchased from the store\, please do so and prepay prior to the first day of class. Please have materials and any prerequisite work completed before the start of class. If you need to cancel\, we require 72 hours notice.</span><br />\n&nbsp\;
LOCATION:Flaxen Fleece: 800 Water St\, Sauk City
UID:e.1184.27951
SEQUENCE:3
DTSTAMP:20260421T133422Z
URL:http://members.saukprairie.com/events/details/summer-fiber-artists-session-3-27951
END:VEVENT

END:VCALENDAR
