BEGIN:VCALENDAR
VERSION:2.0
PRODID:-//ChamberMaster//Event Calendar 2.0//EN
METHOD:PUBLISH
X-PUBLISHED-TTL:P3D
REFRESH-INTERVAL:P3D
CALSCALE:GREGORIAN
BEGIN:VEVENT
DTSTART:20160825T230000Z
DTEND:20160826T000000Z
X-MICROSOFT-CDO-ALLDAYEVENT:FALSE
SUMMARY:Summer Reading Finale Carnival
DESCRIPTION:Celebrate the end of a successful summer of reading with games\, crafts\, and prizes! Activities aimed at ages 5-11\, but all are welcome! This event will be hosted by the Sauk City Library\, the Ruth Culver Community Library\, and the Sauk Prairie Recreation Department.
X-ALT-DESC;FMTTYPE=text/html:<span style="color:rgb(68\, 68\, 68)\; font-family:helvetica neue\,arial\,helvetica\,nimbus sans l\,sans-serif\; font-size:12.8px">Celebrate the end of a successful summer of reading with games\, crafts\, and prizes! Activities aimed at ages 5-11\, but all are welcome! This event will be hosted by the Sauk City Library\, the Ruth Culver Community Library\, and the Sauk Prairie Recreation Department.</span>
LOCATION:Sauk Prairie Community Center 730 Monroe St. Sauk City\, WI 53583
UID:e.1184.9098
SEQUENCE:3
DTSTAMP:20260425T210013Z
URL:http://members.saukprairie.com/events/details/summer-reading-finale-carnival-08-25-2016-9098
END:VEVENT

END:VCALENDAR
