BEGIN:VCALENDAR
VERSION:2.0
PRODID:-//ChamberMaster//Event Calendar 2.0//EN
METHOD:PUBLISH
X-PUBLISHED-TTL:P3D
REFRESH-INTERVAL:P3D
CALSCALE:GREGORIAN
BEGIN:VEVENT
DTSTART:20230811T170000Z
DTEND:20230812T000000Z
X-MICROSOFT-CDO-ALLDAYEVENT:FALSE
SUMMARY:Summer Serenades at Wollersheim
DESCRIPTION:Get ready for a summer full of fun\, relaxation\, and great music at our Summer Serenades series! Join us on June 9th\, July 14th\, August 11th from 12pm to 7pm for an unforgettable experience.\n\nIndulge in some of the best wine\, cocktails\, and food at our winery\, distillery\, and bistro while enjoying the sights and sounds. Our doors will be open all day long\, so you can come and go as you please. No reservations are needed\, so gather your friends and family and join us for a day filled with good times and great memories.\n\nSo mark your calendars\, pack your sunscreen and head over to our winery for an adventure of relaxation\, deliciousness\, and amazing music. We can't wait to see you there
X-ALT-DESC;FMTTYPE=text/html:<div class="xdj266r x11i5rnm xat24cr x1mh8g0r x1vvkbs" style="margin: 0px\; overflow-wrap: break-word\; font-family: &quot\;Segoe UI Historic&quot\;\, &quot\;Segoe UI&quot\;\, Helvetica\, Arial\, sans-serif\; color: rgb(5\, 5\, 5)\; font-size: 15px\;">Get ready for a summer full of fun\, relaxation\, and great music at our Summer Serenades series! Join us on June 9th\, July 14th\, August 11th from 12pm to 7pm for an unforgettable experience.</div>\n\n<div class="x11i5rnm xat24cr x1mh8g0r x1vvkbs xtlvy1s" style="margin: 0.5em 0px 0px\; overflow-wrap: break-word\; font-family: &quot\;Segoe UI Historic&quot\;\, &quot\;Segoe UI&quot\;\, Helvetica\, Arial\, sans-serif\; color: rgb(5\, 5\, 5)\; font-size: 15px\;">Indulge in some of the best wine\, cocktails\, and food at our winery\, distillery\, and bistro while enjoying the sights and sounds. Our doors will be open all day long\, so you can come and go as you please. No reservations are needed\, so gather your friends and family and join us for a day filled with good times and great memories.</div>\n\n<div class="x11i5rnm xat24cr x1mh8g0r x1vvkbs xtlvy1s" style="margin: 0.5em 0px 0px\; overflow-wrap: break-word\; font-family: &quot\;Segoe UI Historic&quot\;\, &quot\;Segoe UI&quot\;\, Helvetica\, Arial\, sans-serif\; color: rgb(5\, 5\, 5)\; font-size: 15px\;">So mark your calendars\, pack your sunscreen and head over to our winery for an adventure of relaxation\, deliciousness\, and amazing music. We can&#39\;t wait to see you there</div>\n
LOCATION:Wollersheim Winery & Distillery 7876 State Rd. 188\, Prairie du Sac
UID:e.1184.30898
SEQUENCE:3
DTSTAMP:20260420T090757Z
URL:http://members.saukprairie.com/events/details/summer-serenades-at-wollersheim-30898
END:VEVENT

END:VCALENDAR
