BEGIN:VCALENDAR
VERSION:2.0
PRODID:-//ChamberMaster//Event Calendar 2.0//EN
METHOD:PUBLISH
X-PUBLISHED-TTL:P3D
REFRESH-INTERVAL:P3D
CALSCALE:GREGORIAN
BEGIN:VEVENT
DTSTART;VALUE=DATE:20190622
DTEND;VALUE=DATE:20190623
TRANSP:TRANSPARENT
X-MICROSOFT-CDO-ALLDAYEVENT:TRUE
SUMMARY:Summer Solstice Festival
DESCRIPTION:Celebrate the longest day of the year with food trucks\, live music\, Vinage Brewing Co. brews\, sport tournaments (sand volleyball\, bag toss\, pickleball)\, Fireworks and much more!
X-ALT-DESC;FMTTYPE=text/html:Celebrate the longest day of the year with food trucks\, live music\, Vinage Brewing Co. brews\, sport tournaments (sand volleyball\, bag toss\, pickleball)\, Fireworks and much more!&nbsp\;
LOCATION:Jaycee Park\, Sauk City\, WI 305 Hemlock St
UID:e.1184.21984
SEQUENCE:3
DTSTAMP:20260423T154116Z
URL:http://members.saukprairie.com/events/details/summer-solstice-festival-21984
END:VEVENT

END:VCALENDAR
