BEGIN:VCALENDAR
VERSION:2.0
PRODID:-//ChamberMaster//Event Calendar 2.0//EN
METHOD:PUBLISH
X-PUBLISHED-TTL:P3D
REFRESH-INTERVAL:P3D
CALSCALE:GREGORIAN
BEGIN:VEVENT
DTSTART;VALUE=DATE:20220618
DTEND;VALUE=DATE:20220619
TRANSP:TRANSPARENT
X-MICROSOFT-CDO-ALLDAYEVENT:TRUE
SUMMARY:Summer Solstice Festival
DESCRIPTION:Celebrate the longest day of the year with food trucks\, live music\, beer garden\, sport tournaments (sand volleyball\, bag toss\, pickleball)\, Sauk Prairie Twins baseball game\, bounce houses\, kids games and much more!\n\nSchedule of Events and more event details coming soon!
X-ALT-DESC;FMTTYPE=text/html:<div class="cxmmr5t8 oygrvhab hcukyx3x c1et5uql o9v6fnle" style="overflow-wrap: break-word\; margin: 0.5em 0px 0px\; font-family: &quot\;Segoe UI Historic&quot\;\, &quot\;Segoe UI&quot\;\, Helvetica\, Arial\, sans-serif\; color: rgb(5\, 5\, 5)\; font-size: 15px\;">Celebrate the longest day of the year with food trucks\, live music\, beer garden\, sport tournaments (sand volleyball\, bag toss\, pickleball)\, Sauk Prairie Twins baseball game\, bounce houses\, kids games and much more!</div>\n\n<div class="cxmmr5t8 oygrvhab hcukyx3x c1et5uql o9v6fnle" style="overflow-wrap: break-word\; margin: 0.5em 0px 0px\; font-family: &quot\;Segoe UI Historic&quot\;\, &quot\;Segoe UI&quot\;\, Helvetica\, Arial\, sans-serif\; color: rgb(5\, 5\, 5)\; font-size: 15px\;">Schedule of Events and more event details coming soon!</div>\n
LOCATION:Jaycee Park\, Sauk City\, WI 305 Hemlock St
UID:e.1184.27119
SEQUENCE:3
DTSTAMP:20260421T120133Z
URL:http://members.saukprairie.com/events/details/summer-solstice-festival-27119
END:VEVENT

END:VCALENDAR
