BEGIN:VCALENDAR
VERSION:2.0
PRODID:-//ChamberMaster//Event Calendar 2.0//EN
METHOD:PUBLISH
X-PUBLISHED-TTL:P3D
REFRESH-INTERVAL:P3D
CALSCALE:GREGORIAN
BEGIN:VEVENT
DTSTART:20190715T140000Z
DTEND:20190719T200000Z
X-MICROSOFT-CDO-ALLDAYEVENT:FALSE
SUMMARY:Summer Youth Workshop-Pre-College Course: Advanced Digital Modeling & Design
DESCRIPTION:Students will build upon their existing knowledge of architecture and digital modeling using SketchUp Make (free) as applied to an individual project. Coursework will encourage students to develop a deeper understanding of the profession and the tools employed in the design process\, with the goal of producing a portfolio-worthy project. The camp will explore similar architectural design concepts as previous workshops\, with a higher degree of rigor\, intrigue\, and sophistication. Students in this session will be provided with additional technical guidance and support for future portfolio preparation. Each student will need to bring a laptop with a power cord and mouse with Trimble SketchUp Make (free) installed\, a camera or smartphone for photos\, and a sketchbook is recommended. Lunch\, full estate access with teaching staff and all other materials are included. Prerequisite: prior design experience and familiarity with the software is important for this workshop. To alleviate concern regarding which camp is best for a potential student\, please consider sharing demonstrations of your work with the Director of Programs. SketchUp models or photos of drawings may be sent to: chamblen@taliesinpreservation.org
X-ALT-DESC;FMTTYPE=text/html:Students will build upon their existing knowledge of architecture and digital modeling using SketchUp Make (free) as applied to an individual project. Coursework will encourage students to develop a deeper understanding of the profession and the tools employed in the design process\, with the goal of producing a portfolio-worthy project. The camp will explore similar architectural design concepts as previous workshops\, with a higher degree of rigor\, intrigue\, and sophistication. Students in this session will be provided with additional technical guidance and support for future portfolio preparation. Each student will need to bring a laptop with a power cord and mouse with Trimble SketchUp Make (free) installed\, a camera or smartphone for photos\, and a sketchbook is recommended. Lunch\, full estate access with teaching staff and all other materials are included. Prerequisite: prior design experience and familiarity with the software is important for this workshop. To alleviate concern regarding which camp is best for a potential student\, please consider sharing demonstrations of your work with the Director of Programs. SketchUp models or photos of drawings may be sent to: chamblen@taliesinpreservation.org
LOCATION:Frank Lloyd Wright Visitor Center 5607 County Rd C Spring Greenm WI. 53588
UID:e.1184.22451
SEQUENCE:3
DTSTAMP:20260423T153303Z
URL:http://members.saukprairie.com/events/details/summer-youth-workshop-pre-college-course-advanced-digital-modeling-design-22451
END:VEVENT

END:VCALENDAR
