BEGIN:VCALENDAR
VERSION:2.0
PRODID:-//ChamberMaster//Event Calendar 2.0//EN
METHOD:PUBLISH
X-PUBLISHED-TTL:P3D
REFRESH-INTERVAL:P3D
CALSCALE:GREGORIAN
BEGIN:VEVENT
DTSTART:20190617T140000Z
DTEND:20190621T200000Z
X-MICROSOFT-CDO-ALLDAYEVENT:FALSE
SUMMARY:Summer Youth Workshop - Taliesin Experience (Ages 10-15)
DESCRIPTION:Experience culture\, community\, and beauty at Taliesin! This workshop will immerse students in architecture\, nature\, the arts\, and hands-on learning while working alongside professionals who are skilled in these disciplines. Taliesin will serve as a laboratory for exploration and an introduction to the organic principles of Frank Lloyd Wright. Student's will be challenged to practice critical thinking\, problem-solving skills\, and foster creative expression in this multifaceted program\, while immersed in a beautiful setting aimed to enhance personal growth. They will incorporate all they learn and experience into a 3D project of their own design. The workshop will conclude with an exhibition open to family and friends. No prerequisites necessary.
X-ALT-DESC;FMTTYPE=text/html:Experience culture\, community\, and beauty at Taliesin! This workshop will immerse students in architecture\, nature\, the arts\, and hands-on learning while working alongside professionals who are skilled in these disciplines. Taliesin will serve as a laboratory for exploration and an introduction to the organic principles of Frank Lloyd Wright. Student&rsquo\;s will be challenged to practice critical thinking\, problem-solving skills\, and foster creative expression in this multifaceted program\, while immersed in a beautiful setting aimed to enhance personal growth. They will incorporate all they learn and experience into a 3D project of their own design. The workshop will conclude with an exhibition open to family and friends. No prerequisites necessary.
LOCATION:Frank Lloyd Wright Visitor Center 5607 County Rd C Spring Green\, WI. 53588
UID:e.1184.22450
SEQUENCE:3
DTSTAMP:20260423T154256Z
URL:http://members.saukprairie.com/events/details/summer-youth-workshop-taliesin-experience-ages-10-15-22450
END:VEVENT

END:VCALENDAR
