BEGIN:VCALENDAR
VERSION:2.0
PRODID:-//ChamberMaster//Event Calendar 2.0//EN
METHOD:PUBLISH
X-PUBLISHED-TTL:P3D
REFRESH-INTERVAL:P3D
CALSCALE:GREGORIAN
BEGIN:VEVENT
DTSTART;VALUE=DATE:20160703
DTEND;VALUE=DATE:20160704
TRANSP:TRANSPARENT
X-MICROSOFT-CDO-ALLDAYEVENT:TRUE
SUMMARY:Sunday Worship
DESCRIPTION:Sunday Worship at the Historic Witwen Tabernacle\n\n\n\nSunday\, July 3rd - 10:30am\n\nWith Special Guest Speaker: Rev. Scott Carlson\, S.W. District Superintendent of WI United Methodist Church\n\n\n\nNo admission will be charged\, but a free-will offering will be received.
X-ALT-DESC;FMTTYPE=text/html:Sunday Worship at the Historic Witwen Tabernacle<br />\n<br />\nSunday\, July 3rd - 10:30am<br />\nWith Special Guest Speaker: Rev. Scott Carlson\, S.W. District Superintendent of WI United Methodist Church<br />\n<br />\nNo admission will be charged\, but a free-will offering will be received.&nbsp\;
LOCATION:Witwen Campground S9855 Hwy E\, Sauk City\, WI 53583
UID:e.1184.8543
SEQUENCE:3
DTSTAMP:20260425T224324Z
URL:http://members.saukprairie.com/events/details/sunday-worship-07-03-2016-8543
END:VEVENT

END:VCALENDAR
