BEGIN:VCALENDAR
VERSION:2.0
PRODID:-//ChamberMaster//Event Calendar 2.0//EN
METHOD:PUBLISH
X-PUBLISHED-TTL:P3D
REFRESH-INTERVAL:P3D
CALSCALE:GREGORIAN
BEGIN:VEVENT
DTSTART:20200403T000000Z
DTEND:20200403T020000Z
X-MICROSOFT-CDO-ALLDAYEVENT:FALSE
SUMMARY:Sunspot Acoustic Duo at Vintage Brewing Co.
DESCRIPTION:A symphony of guitars and voices\, soaring melodies wrapped around hyper literate poetry and wicked rhythms. Male and female harmonies collide with expert guitar work and pop sensibility. Sunspot is rock music that's smart\, fun\, and powerful.
X-ALT-DESC;FMTTYPE=text/html:<span style="color: rgb(29\, 33\, 41)\; font-family: Helvetica\, Arial\, sans-serif\; font-size: 14px\; white-space: pre-wrap\;">A symphony of guitars and voices\, soaring melodies wrapped around hyper literate poetry and wicked rhythms. Male and female harmonies collide with expert guitar work and pop sensibility. Sunspot is rock music that&#39\;s smart\, fun\, and powerful.</span>
LOCATION:Vintage Brewing Co. 600 Water St. Sauk City
UID:e.1184.24090
SEQUENCE:3
DTSTAMP:20260423T012213Z
URL:http://members.saukprairie.com/events/details/sunspot-acoustic-duo-at-vintage-brewing-co-24090
END:VEVENT

END:VCALENDAR
