BEGIN:VCALENDAR
VERSION:2.0
PRODID:-//ChamberMaster//Event Calendar 2.0//EN
METHOD:PUBLISH
X-PUBLISHED-TTL:P3D
REFRESH-INTERVAL:P3D
CALSCALE:GREGORIAN
BEGIN:VEVENT
DTSTART:20171013T000000Z
DTEND:20171013T020000Z
X-MICROSOFT-CDO-ALLDAYEVENT:FALSE
SUMMARY:Sunspot at the Woodshed Ale House
DESCRIPTION:A symphony of guitars and voices\, soaring melodies wrapped around hyper literate poetry and wicked rhythms. Male and female harmonies collide with expert guitar work and pop sensibility. Sunspot is rock music that's smart\, fun\, and powerful.
X-ALT-DESC;FMTTYPE=text/html:<span style="color: rgb(75\, 79\, 86)\; font-family: Helvetica\, Arial\, sans-serif\; font-size: 14px\;">A symphony of guitars and voices\, soaring melodies wrapped around hyper literate poetry and wicked rhythms. Male and female harmonies collide with expert guitar work and pop sensibility. Sunspot is rock music that&#39\;s smart\, fun\, and powerful.</span>
LOCATION:Woodshed Ale House 101 Jackson Street Sauk City\, WI 53583
UID:e.1184.11815
SEQUENCE:3
DTSTAMP:20260424T222502Z
URL:http://members.saukprairie.com/events/details/sunspot-at-the-woodshed-ale-house-11815
END:VEVENT

END:VCALENDAR
