BEGIN:VCALENDAR
VERSION:2.0
PRODID:-//ChamberMaster//Event Calendar 2.0//EN
METHOD:PUBLISH
X-PUBLISHED-TTL:P3D
REFRESH-INTERVAL:P3D
CALSCALE:GREGORIAN
BEGIN:VEVENT
DTSTART:20220923T000000Z
DTEND:20220923T020000Z
X-MICROSOFT-CDO-ALLDAYEVENT:FALSE
SUMMARY:Sunspot at Vintage Brewing Co. Sauk Prairie
DESCRIPTION:A symphony of guitars and voices\, soaring melodies wrapped around hyper literate poetry and wicked rhythms. Male and female harmonies collide with expert guitar work and pop sensibility. Sunspot is rock music that's smart\, fun\, and powerful.
X-ALT-DESC;FMTTYPE=text/html:<span style="color: rgb(5\, 5\, 5)\; font-family: &quot\;Segoe UI Historic&quot\;\, &quot\;Segoe UI&quot\;\, Helvetica\, Arial\, sans-serif\; font-size: 15px\;">A symphony of guitars and voices\, soaring melodies wrapped around hyper literate poetry and wicked rhythms. Male and female harmonies collide with expert guitar work and pop sensibility. Sunspot is rock music that&#39\;s smart\, fun\, and powerful.</span><span style="color: rgb(5\, 5\, 5)\; font-family: &quot\;Segoe UI Historic&quot\;\, &quot\;Segoe UI&quot\;\, Helvetica\, Arial\, sans-serif\; font-size: 15px\;">&nbsp\;</span>
LOCATION:Vintage Brewing Co. 600 Water St. Sauk City
UID:e.1184.28666
SEQUENCE:3
DTSTAMP:20260421T061800Z
URL:http://members.saukprairie.com/events/details/sunspot-at-vintage-brewing-co-sauk-prairie-28666
END:VEVENT

END:VCALENDAR
