BEGIN:VCALENDAR
VERSION:2.0
PRODID:-//ChamberMaster//Event Calendar 2.0//EN
METHOD:PUBLISH
X-PUBLISHED-TTL:P3D
REFRESH-INTERVAL:P3D
CALSCALE:GREGORIAN
BEGIN:VEVENT
DTSTART:20181020T000000Z
DTEND:20181020T030000Z
X-MICROSOFT-CDO-ALLDAYEVENT:FALSE
SUMMARY:SWEAT: a play about the reality of the American Dream
DESCRIPTION:The New York Public Theater's Mobil Unit in conjunction with the Sauk City and Ruth Culver libraries is bringing the play\, Sweat to the Sauk Prairie area.\n\nSweat\, by Lynn Nottage won the 2017 Pulitzer Prize for drama. The play is about the working class people of Reading\, Pennsylvania and deals with poverty\, downsizing\, and job cuts.\n\nSweat will be preformed at the Sauk Prairie Community Center.\n\n\n\nAll are welcome\, ages 16+. \n\nEstimated run-time: Play runs 2 hours with one 15-minute intermission and will immediately be followed by a post-show conversation.\n\n\n\nTickets are free\, but they need to be reserved. You can reserve tickets by visiting thepublic.nyc/sweatsaukcity or calling 608-643-8346.
X-ALT-DESC;FMTTYPE=text/html:<span style="background-color:rgb(255\, 255\, 255)\; color:rgb(33\, 33\, 33)\; font-family:times new roman\,serif\,serif\,emojifont\; font-size:16px">The New York Public Theater&#39\;s Mobil Unit in conjunction with the Sauk City and Ruth Culver libraries is bringing the play\, Sweat to the Sauk Prairie area.<br />\nSweat\, by Lynn Nottage won the 2017 Pulitzer Prize for drama. The play is about the working class people of Reading\, Pennsylvania and deals with poverty\, downsizing\, and job cuts.<br />\nSweat will be preformed at the Sauk Prairie Community Center.</span><br />\n<br />\n<span style="font-family:times new roman\,serif"><span style="font-size:12.0pt">All are welcome\, ages 16+. </span></span><br />\n<span style="font-family:times new roman\,serif"><span style="font-size:12.0pt">Estimated run-time: Play runs 2 hours with one 15-minute intermission and will immediately be followed by a post-show conversation.</span></span><br />\n<br />\n<span style="background-color:rgb(255\, 255\, 255)\; color:rgb(33\, 33\, 33)\; font-family:times new roman\,serif\,serif\,emojifont\; font-size:16px">Tickets are free\, but they need to be reserved. You can reserve tickets by visiting&nbsp\;<a href="http://thepublic.nyc/sweatsaukcity">thepublic.nyc/sweatsaukcity</a>&nbsp\;or calling 608-643-8346.</span>
LOCATION:Sauk Prairie Community Center 730 Monroe Street\, Sauk City
UID:e.1184.21336
SEQUENCE:3
DTSTAMP:20260424T034354Z
URL:http://members.saukprairie.com/events/details/sweat-a-play-about-the-reality-of-the-american-dream-21336
END:VEVENT

END:VCALENDAR
