BEGIN:VCALENDAR
VERSION:2.0
PRODID:-//ChamberMaster//Event Calendar 2.0//EN
METHOD:PUBLISH
X-PUBLISHED-TTL:P3D
REFRESH-INTERVAL:P3D
CALSCALE:GREGORIAN
BEGIN:VEVENT
DTSTART:20220122T200000Z
DTEND:20220122T220000Z
X-MICROSOFT-CDO-ALLDAYEVENT:FALSE
SUMMARY:Sweet Dreams and Honky Tonks
DESCRIPTION:Sweet Dreams and HonkyTonks:\n\nThe Music and Lives of Hank Williams\, Loretta Lynn\, Patsy Cline\, and Johnny Cash\n\nSaturday\, January 22nd\, 2022 2pm\n\n$25/Adults\, $10/Students\n\nat the Sauk Prairie River Arts Center (105-9th Street\, Prairie du Sac)\n\nIt's impossible to crown any one performer as country music's biggest star\, but Hank Williams\, Loretta Lynn\, Patsy Cline and Johnny Cash would all be near the top of any list. Each broke barriers and changed country music and popular culture forever. Sweet Dreams & Honky Tonks is a new revue that presents the best loved songs of these classic artists along with stories of their colorful lives and careers.  Featuring vocals by Tom Waselchuk and Lindsey Giese and backed by the wonderful band\, The Dang-Its.\n\n"The sellout-plus crowd absolutely loved Sweet Dreams & Honky Tonks. The music was excellent\; the stories about the lives of these legendary performers were heart-warming and informative. Tom and Lindsey's appreciation and enjoyment of the songs and the men and women who created them came out in their stage performance."\n\n-KEN SIDEY\, WARREN CULTURAL CENTER\, GREENFIELD\, IOWA
X-ALT-DESC;FMTTYPE=text/html:<p><strong>Sweet Dreams and HonkyTonks:</strong></p>\n\n<p>The Music and Lives of Hank Williams\, Loretta Lynn\, Patsy Cline\, and Johnny Cash</p>\n\n<p><strong>Saturday\, January 22nd\, 2022 2pm</strong></p>\n\n<p>$25/Adults\, $10/Students</p>\n\n<p><strong>at the Sauk Prairie River Arts Center (105-9th Street\, Prairie du Sac)</strong></p>\n\n<p>It&rsquo\;s impossible to crown any one performer as country music&rsquo\;s biggest star\, but Hank Williams\, Loretta Lynn\, Patsy Cline and Johnny Cash would all be near the top of any list. Each broke barriers and changed country music and popular culture forever.&nbsp\;<em>Sweet Dreams &amp\; Honky Tonks</em>&nbsp\;is a new revue that presents the best loved songs of these classic artists along with stories of their colorful lives and careers.&nbsp\; Featuring vocals by Tom Waselchuk and Lindsey Giese and backed by the wonderful band\, The Dang-Its.</p>\n\n<p>&ldquo\;The sellout-plus crowd absolutely loved Sweet Dreams &amp\; Honky Tonks. The music was excellent\; the stories about the lives of these legendary performers were heart-warming and informative. Tom and Lindsey&rsquo\;s appreciation and enjoyment of the songs and the men and women who created them came out in their stage performance.&rdquo\;</p>\n\n<p>-KEN SIDEY\, WARREN CULTURAL CENTER\, GREENFIELD\, IOWA</p>\n
LOCATION:Sauk Prairie River Arts Center (105-9th Street\, Prairie du Sac)
UID:e.1184.26909
SEQUENCE:3
DTSTAMP:20260421T174047Z
URL:http://members.saukprairie.com/events/details/sweet-dreams-and-honky-tonks-26909
END:VEVENT

END:VCALENDAR
