BEGIN:VCALENDAR
VERSION:2.0
PRODID:-//ChamberMaster//Event Calendar 2.0//EN
METHOD:PUBLISH
X-PUBLISHED-TTL:P3D
REFRESH-INTERVAL:P3D
CALSCALE:GREGORIAN
BEGIN:VEVENT
DTSTART:20160916T213000Z
DTEND:20160916T233000Z
X-MICROSOFT-CDO-ALLDAYEVENT:FALSE
SUMMARY:Tailgate 2016 - Sponsored by the SP Sports Boosters
DESCRIPTION:Join Eagle fans for Tailgate 2016 as the Sauk Prairie Eagles face off against the Baraboo Thunderbirds...\n\n\n\nTailgate funs from 4:30 - 6:30pm and includes:\n\nDinner for $5.00 choice of hamburger\, brat or hotdog\, chips\, drink & dessert.\n\n\n\nEvent Details:\n\nSauk Prairie Football Player Meet-n-Greet: 4:30 - 5:00pm\n\n\n\nKids activities include bounce house & carnival games!\n\n\n\n50/50 & other raffles items will be available\n\n\n\nJoin the Sauk Prairie Cheerleaders\, marching band\, football players and other Sauk Prairie fans as we celebrate homecoming and prepare for a win over Baraboo!
X-ALT-DESC;FMTTYPE=text/html:Join Eagle fans for Tailgate 2016 as the Sauk Prairie Eagles face off against the Baraboo Thunderbirds...<br />\n<br />\nTailgate funs from 4:30 - 6:30pm and includes:<br />\nDinner for $5.00 choice of hamburger\, brat&nbsp\;or hotdog\, chips\, drink &amp\; dessert.<br />\n<br />\nEvent Details:<br />\nSauk Prairie Football Player Meet-n-Greet: 4:30 - 5:00pm<br />\n<br />\nKids activities include bounce house &amp\; carnival games!<br />\n<br />\n50/50 &amp\; other raffles items will be available<br />\n<br />\nJoin the Sauk Prairie Cheerleaders\, marching band\, football players and other Sauk Prairie fans as we celebrate homecoming and prepare for a win over Baraboo!<br />\n&nbsp\;
LOCATION:Sauk Prairie Hight School Pool Entrance Parking Lot
UID:e.1184.9096
SEQUENCE:3
DTSTAMP:20260425T193054Z
URL:http://members.saukprairie.com/events/details/tailgate-2016-sponsored-by-the-sp-sports-boosters-09-16-2016-9096
END:VEVENT

END:VCALENDAR
