BEGIN:VCALENDAR
VERSION:2.0
PRODID:-//ChamberMaster//Event Calendar 2.0//EN
METHOD:PUBLISH
X-PUBLISHED-TTL:P3D
REFRESH-INTERVAL:P3D
CALSCALE:GREGORIAN
BEGIN:VEVENT
DTSTART:20231017T233000Z
DTEND:20231018T003000Z
X-MICROSOFT-CDO-ALLDAYEVENT:FALSE
SUMMARY:Tailspin Author John Armbruster
DESCRIPTION:Wisconsin author John Armbruster will discuss his book Tailspin\, the true story of Gene Moran\, a World War II tail gunner who survived a four-mile fall without a parachute only to land in Nazi hands. Books will be available for sale and signing. Sponsored by the Friends of the Ruth Culver Community Library.
X-ALT-DESC;FMTTYPE=text/html:<span style="font-family:roboto\,sans-serif\; font-size:16px">Wisconsin author John Armbruster will discuss his book&nbsp\;</span><span style="font-size:16px"><em>Tailspin</em></span><span style="font-family:roboto\,sans-serif\; font-size:16px">\, the true story of Gene&nbsp\;Moran\, a World War II tail gunner who survived a four-mile fall without a parachute only to land in Nazi hands. Books will be available for sale and signing. Sponsored by the Friends of the Ruth Culver Community Library.</span>
LOCATION:Ruth Culver Community Library 540 Water Street\, Prairie du Sac
UID:e.1184.30664
SEQUENCE:3
DTSTAMP:20260420T061837Z
URL:http://members.saukprairie.com/events/details/tailspin-author-john-armbruster-30664
END:VEVENT

END:VCALENDAR
