BEGIN:VCALENDAR
VERSION:2.0
PRODID:-//ChamberMaster//Event Calendar 2.0//EN
METHOD:PUBLISH
X-PUBLISHED-TTL:P3D
REFRESH-INTERVAL:P3D
CALSCALE:GREGORIAN
BEGIN:VEVENT
DTSTART:20180612T190000Z
DTEND:20180612T200000Z
X-MICROSOFT-CDO-ALLDAYEVENT:FALSE
SUMMARY:Taking Flight w/ Author Michael Edmonds
DESCRIPTION:The library welcomes Author Michael Edmonds to talk about their new book on the history and culture of birds in the Midwest. There will be time for questions and book signings at the end of the program.\n\n\n\n---\n\n\n\n"Whether you're a casual bird-watcher\, a hard-core life-lister\, or simply someone who loves the outdoors\, Taking Flight will show you new ways of thinking about birds\, people\, and the extraordinary history that connects them."              -From Book Cover
X-ALT-DESC;FMTTYPE=text/html:<span style="background-color:transparent\; color:rgb(0\, 0\, 0)\; font-family:arial\; font-size:11pt">The library welcomes Author Michael Edmonds to talk about their new book on the history and culture of birds in the Midwest. There will be time for questions and book signings at the end of the program.<br />\n<br />\n---</span><br />\n<br />\n&quot\;Whether you&rsquo\;re a casual bird-watcher\, a&nbsp\;hard-core life-lister\, or simply someone who&nbsp\;loves the outdoors\, <em>Taking Flight</em> will show you&nbsp\;new ways of thinking about birds\, people\, and the extraordinary history that connects them.&quot\;&nbsp\; &nbsp\; &nbsp\; &nbsp\; &nbsp\; &nbsp\;&nbsp\;&nbsp\; -From Book Cover
LOCATION:Sauk City Public Library 515 Water St\, Sauk City\, WI 53583
UID:e.1184.18127
SEQUENCE:3
DTSTAMP:20260424T100314Z
URL:http://members.saukprairie.com/events/details/taking-flight-w-author-michael-edmonds-18127
END:VEVENT

END:VCALENDAR
