BEGIN:VCALENDAR
VERSION:2.0
PRODID:-//ChamberMaster//Event Calendar 2.0//EN
METHOD:PUBLISH
X-PUBLISHED-TTL:P3D
REFRESH-INTERVAL:P3D
CALSCALE:GREGORIAN
BEGIN:VEVENT
DTSTART:20180930T210000Z
DTEND:20181001T000000Z
X-MICROSOFT-CDO-ALLDAYEVENT:FALSE
SUMMARY:Tanner Scheckel at Wood BBQ
DESCRIPTION:Tanner will be taking his acoustic sets to Sauk City\, Wisconsin on Sunday\, September 30th! Music goes from 4pm til 7pm. So come out and grab some awesome food with cold drinks\, and great live music!
X-ALT-DESC;FMTTYPE=text/html:<div class="_63eu" style="box-sizing: border-box\; font-size: 14px\; max-height: 260px\; overflow: hidden\; padding: 12px\; word-wrap: break-word\; font-family: Helvetica\, Arial\, sans-serif\; color: rgb(29\, 33\, 41)\;">\n<div class="_63ew" data-testid="event-permalink-details" style="font-family: inherit\;"><span style="color: rgb(29\, 33\, 41)\; font-family: Helvetica\, Arial\, sans-serif\; font-size: 14px\;">Tanner will be taking his acoustic sets to Sauk City\, Wisconsin on Sunday\, September 30th! Music goes from 4pm til 7pm. So come out and grab some awesome food with cold drinks\, and great live music!</span></div>\n\n<div>&nbsp\;</div>\n</div>\n
LOCATION:Wood BBQ 739 Phillips Blvd.\, Sauk City
UID:e.1184.20527
SEQUENCE:3
DTSTAMP:20260424T050742Z
URL:http://members.saukprairie.com/events/details/tanner-scheckel-at-wood-bbq-20527
END:VEVENT

END:VCALENDAR
