BEGIN:VCALENDAR
VERSION:2.0
PRODID:-//ChamberMaster//Event Calendar 2.0//EN
METHOD:PUBLISH
X-PUBLISHED-TTL:P3D
REFRESH-INTERVAL:P3D
CALSCALE:GREGORIAN
BEGIN:VEVENT
DTSTART:20180313T131500Z
DTEND:20180314T024500Z
X-MICROSOFT-CDO-ALLDAYEVENT:FALSE
SUMMARY:Tax Reform
DESCRIPTION:Tax Reform - Who's it simply for?  \n\n  Average taxpayer planning opportunities under tax reform \n\n   - are there any left?  \n\n  Employers - be prepared for employees to come at you with changes to their salary and benefits packages\n\n  Who are the winners and losers (with real life scenarios) under tax reform\n\n  Will all businesses benefit from the new 20% deduction?\n\n  Should I change my business type/entity structure now?\n\n  What are the States doing to help taxpayers?
X-ALT-DESC;FMTTYPE=text/html:&bull\; Tax Reform - Who&#39\;s it simply for?&nbsp\;&nbsp\;<br />\n&bull\; Average taxpayer planning&nbsp\;opportunities under tax reform&nbsp\;<br />\n&nbsp\; &nbsp\;- are there any left?&nbsp\;&nbsp\;<br />\n&bull\; Employers - be prepared for&nbsp\;employees to come at you with&nbsp\;changes to their salary and&nbsp\;benefits packages<br />\n&bull\; Who are the winners and losers (with real life scenarios) under&nbsp\;tax reform<br />\n&bull\; Will all businesses benefit from&nbsp\;the new 20% deduction?<br />\n&bull\; Should I change my business&nbsp\;type/entity structure now?<br />\n&bull\; What are the States doing to&nbsp\;help taxpayers?
LOCATION:Sauk Prairie Welcome Center 109 Phillips Blvd. Sauk City\, WI 53583
UID:e.1184.14676
SEQUENCE:3
DTSTAMP:20260424T144556Z
URL:http://members.saukprairie.com/events/details/tax-reform-14676
END:VEVENT

END:VCALENDAR
