BEGIN:VCALENDAR
VERSION:2.0
PRODID:-//ChamberMaster//Event Calendar 2.0//EN
METHOD:PUBLISH
X-PUBLISHED-TTL:P3D
REFRESH-INTERVAL:P3D
CALSCALE:GREGORIAN
BEGIN:VEVENT
DTSTART:20181114T143000Z
DTEND:20181114T153000Z
X-MICROSOFT-CDO-ALLDAYEVENT:FALSE
SUMMARY:Tax Talk with Kari Apel\, CPA
DESCRIPTION:We're excited to announce the exclusive taxtalk with Kari Apel\, CPA.\n\n\n\ntaxtalk\n\nbrings together Chamber Businesses to join in conversation on topics related to saving money\, investments\, legalities and overall success.\n\n\n\nrsvp: spacc@saukprairie.com
X-ALT-DESC;FMTTYPE=text/html:We&#39\;re excited to announce the exclusive taxtalk with Kari Apel\, CPA.<br />\n<br />\ntaxtalk<br />\nbrings together Chamber Businesses to join in conversation on topics related to saving money\, investments\, legalities and overall success.<br />\n<br />\nrsvp: spacc@saukprairie.com
LOCATION:Sauk Prairie Riverway Welcome Center 109 Phillips Blvd.\, Sauk City
UID:e.1184.21423
SEQUENCE:3
DTSTAMP:20260424T022316Z
URL:http://members.saukprairie.com/events/details/tax-talk-with-kari-apel-cpa-21423
END:VEVENT

END:VCALENDAR
