BEGIN:VCALENDAR
VERSION:2.0
PRODID:-//ChamberMaster//Event Calendar 2.0//EN
METHOD:PUBLISH
X-PUBLISHED-TTL:P3D
REFRESH-INTERVAL:P3D
CALSCALE:GREGORIAN
BEGIN:VEVENT
DTSTART;VALUE=DATE:20240402
DTEND;VALUE=DATE:20240403
TRANSP:TRANSPARENT
X-MICROSOFT-CDO-ALLDAYEVENT:TRUE
SUMMARY:Taylor Swift Party
DESCRIPTION:Calling all Swifties! Don't miss the library's Taylor Swift party!\n\n\n\nWe'll make friendship bracelets and play bingo and Name That Song. There will be refreshments\, photo ops\, prizes and gift bags! Dress in your favorite Era and come party with us!\n\n\n\nThis event is open to ages 8 and up. Registration is required: ruthculver.librarycalendar.com
X-ALT-DESC;FMTTYPE=text/html:Calling all Swifties! Don&#39\;t miss the library&#39\;s Taylor Swift party!<br />\n<br />\nWe&#39\;ll make friendship bracelets and play bingo and Name That Song. There will be refreshments\, photo ops\, prizes and gift bags! Dress in your favorite Era and come party with us!<br />\n<br />\nThis event is open to ages 8 and up. Registration is required:&nbsp\;<u><strong><a font-size:="" href="https://ruthculver.librarycalendar.com/event/taylor-swift-party-5153?fbclid=IwAR2WHPPSTWCn9ittqoOO1IOXT9L6Lc_bhfdyVXzNwdpci45bUDZr7ysISDg" rel="nofollow noreferrer" role="link" segoe="" tabindex="0" target="_blank" ui="">r</a><a href="https://ruthculver.librarycalendar.com/event/taylor-swift-party-5153?fbclid=IwAR2WHPPSTWCn9ittqoOO1IOXT9L6Lc_bhfdyVXzNwdpci45bUDZr7ysISDg">uthculver.librarycalendar.com</a></strong></u>
LOCATION:Ruth Culver Community Library - Prairie du Sac
UID:e.1184.31632
SEQUENCE:3
DTSTAMP:20260419T221047Z
URL:http://members.saukprairie.com/events/details/taylor-swift-party-31632
END:VEVENT

END:VCALENDAR
