BEGIN:VCALENDAR
VERSION:2.0
PRODID:-//ChamberMaster//Event Calendar 2.0//EN
METHOD:PUBLISH
X-PUBLISHED-TTL:P3D
REFRESH-INTERVAL:P3D
CALSCALE:GREGORIAN
BEGIN:VEVENT
DTSTART:20181212T203000Z
DTEND:20181212T213000Z
X-MICROSOFT-CDO-ALLDAYEVENT:FALSE
SUMMARY:Technology & Nature
DESCRIPTION:Come to the Ruth Culver Community Library Wednesday\, December 12 at 2:30 p.m. to find out how you can use technology to discover cool things in nature! Naturalist Sue Johansen will have several stations set up for you to explore\, including digital microscopes\, star apps\, bird apps\, and thermal imaging cameras. Use and explore how technology can make nature exploration fun! This event is appropriate for children in grades K-5. Contact Beth at 643-8318 with questions.
X-ALT-DESC;FMTTYPE=text/html:Come to the Ruth Culver Community Library Wednesday\, December 12 at 2:30 p.m. to find out how you can use technology to discover cool things in nature! Naturalist Sue Johansen will have several stations set up for you to explore\, including digital microscopes\, star apps\, bird apps\, and thermal imaging cameras. Use and explore how technology can make nature exploration fun! This event is appropriate for children in grades K-5. Contact Beth at 643-8318 with questions.
LOCATION:Ruth Culver Community Library 540 Water Street\, Prairie du Sac
UID:e.1184.20934
SEQUENCE:3
DTSTAMP:20260424T002947Z
URL:http://members.saukprairie.com/events/details/technology-nature-20934
END:VEVENT

END:VCALENDAR
