BEGIN:VCALENDAR
VERSION:2.0
PRODID:-//ChamberMaster//Event Calendar 2.0//EN
METHOD:PUBLISH
X-PUBLISHED-TTL:P3D
REFRESH-INTERVAL:P3D
CALSCALE:GREGORIAN
BEGIN:VEVENT
DTSTART:20170731T220000Z
DTEND:20170731T230000Z
X-MICROSOFT-CDO-ALLDAYEVENT:FALSE
SUMMARY:Teen Craft: Fidget Spinners
DESCRIPTION:Try your hand at making your own fidget spinner!\n\n\n\nSpace is limited so sign up today by visiting or calling the library at 608-643-8346.
X-ALT-DESC;FMTTYPE=text/html:<p>Try your hand at making your own fidget spinner!<br />\n<br />\nSpace is limited so sign up today by visiting or calling the library at 608-643-8346.</p>\n\n<p>&nbsp\;</p>\n
LOCATION:515 Water Street Sauk City\, WI 53583 (608) 643-8346
UID:e.1184.11766
SEQUENCE:3
DTSTAMP:20260425T033015Z
URL:http://members.saukprairie.com/events/details/teen-craft-fidget-spinners-11766
END:VEVENT

END:VCALENDAR
