BEGIN:VCALENDAR
VERSION:2.0
PRODID:-//ChamberMaster//Event Calendar 2.0//EN
METHOD:PUBLISH
X-PUBLISHED-TTL:P3D
REFRESH-INTERVAL:P3D
CALSCALE:GREGORIAN
BEGIN:VEVENT
DTSTART:20220711T203000Z
DTEND:20220711T213000Z
X-MICROSOFT-CDO-ALLDAYEVENT:FALSE
SUMMARY:Teen Drop-In
DESCRIPTION:Teens ages 12 and up are invited to drop in every second Monday during the summer for fun ocean-themed activities. There will be something new each month: art\, crafts\, and virtual reality. Snacks are provided. Call each month for more information.
X-ALT-DESC;FMTTYPE=text/html:<span style="font-family:arial\; font-size:11pt">Teens ages 12 and up are invited to drop in every second Monday during the summer for fun ocean-themed activities. There will be something new each month: art\, crafts\, and virtual reality. Snacks are provided. Call each month for more information.</span>
LOCATION:615 Phillips Blvd\, Sauk City\, WI
UID:e.1184.27670
SEQUENCE:3
DTSTAMP:20260421T120429Z
URL:http://members.saukprairie.com/events/details/teen-drop-in-07-11-2022-27670
END:VEVENT

END:VCALENDAR
