BEGIN:VCALENDAR
VERSION:2.0
PRODID:-//ChamberMaster//Event Calendar 2.0//EN
METHOD:PUBLISH
X-PUBLISHED-TTL:P3D
REFRESH-INTERVAL:P3D
CALSCALE:GREGORIAN
BEGIN:VEVENT
DTSTART:20240823T180000Z
DTEND:20240823T193000Z
X-MICROSOFT-CDO-ALLDAYEVENT:FALSE
SUMMARY:Teen Drop-In Friday
DESCRIPTION:Teen Drop-In Fridays are back in August! We'll have a variety of supplies for DIY projects\, tabletop games and snacks! Drop-in and do what you want! This event is intended for grades 6-12.
X-ALT-DESC;FMTTYPE=text/html:Teen Drop-In Fridays are back in August! We&#39\;ll have a variety of supplies for DIY projects\, tabletop games and snacks! Drop-in and do what you want! This event is intended for grades 6-12.
LOCATION:Ruth Culver Community Library (Prairie du Sac)
UID:e.1184.32988
SEQUENCE:3
DTSTAMP:20260419T175350Z
URL:http://members.saukprairie.com/events/details/teen-drop-in-friday-32988
END:VEVENT

END:VCALENDAR
