BEGIN:VCALENDAR
VERSION:2.0
PRODID:-//ChamberMaster//Event Calendar 2.0//EN
METHOD:PUBLISH
X-PUBLISHED-TTL:P3D
REFRESH-INTERVAL:P3D
CALSCALE:GREGORIAN
BEGIN:VEVENT
DTSTART:20180618T233000Z
DTEND:20180619T010000Z
X-MICROSOFT-CDO-ALLDAYEVENT:FALSE
SUMMARY:Teen Escape Room
DESCRIPTION:Are you scared of the dark? Try your nerve (and wits) at our summer escape room.\n\n\n\nThis event is pen to those age 12-18. Please register in advance as space is limited by calling the library or stopping by.\n\n\n\nGroup 1: 6:30-7:00pm\n\nGroup 2: 7:15-7:45pm\n\n\n\nCan you escape before it's too late?
X-ALT-DESC;FMTTYPE=text/html:<span style="background-color:transparent\; color:rgb(0\, 0\, 0)\; font-family:arial\; font-size:11pt">Are you scared of the dark? Try your nerve (and wits) at our summer escape room.<br />\n<br />\nThis event is pen to those age 12-18. Please register in advance as space is limited by calling the library or stopping by.<br />\n<br />\nGroup 1: 6:30-7:00pm<br />\nGroup 2: 7:15-7:45pm<br />\n<br />\nCan you escape before it&rsquo\;s too late?</span>
LOCATION:
UID:e.1184.18323
SEQUENCE:3
DTSTAMP:20260424T101012Z
URL:http://members.saukprairie.com/events/details/teen-escape-room-18323
END:VEVENT

END:VCALENDAR
