BEGIN:VCALENDAR
VERSION:2.0
PRODID:-//ChamberMaster//Event Calendar 2.0//EN
METHOD:PUBLISH
X-PUBLISHED-TTL:P3D
REFRESH-INTERVAL:P3D
CALSCALE:GREGORIAN
BEGIN:VEVENT
DTSTART;VALUE=DATE:20240216
DTEND;VALUE=DATE:20240217
TRANSP:TRANSPARENT
X-MICROSOFT-CDO-ALLDAYEVENT:TRUE
SUMMARY:Teen Event: Viral Party
DESCRIPTION:Teen Event:  Viral Party Games @ Ruth Culver Community Library starting @ 1pm\n\n\n\nThere's no school today\, so head to the library for some fun playing party games made popular on the internet and social media. This event is especially for grades 6-12. No registration is required unless you'd like to receive an email reminder.
X-ALT-DESC;FMTTYPE=text/html:<span font-size:="" segoe="" style="color: rgb(5\, 5\, 5)\; font-family: " ui="">Teen Event:&nbsp\; Viral Party Games @ Ruth Culver Community Library starting @ 1pm<br />\n<br />\nThere&#39\;s no school today\, so head to the library for some fun playing party games made popular on the internet and social media. This event is especially for grades 6-12. No registration is required unless you&#39\;d like to receive an email reminder.</span><span font-size:="" segoe="" style="color: rgb(5\, 5\, 5)\; font-family: " ui="">&nbsp\;</span>
LOCATION:Ruth Culver Community Library - Prairie du Sac
UID:e.1184.31559
SEQUENCE:3
DTSTAMP:20260420T003815Z
URL:http://members.saukprairie.com/events/details/teen-event-viral-party-31559
END:VEVENT

END:VCALENDAR
