BEGIN:VCALENDAR
VERSION:2.0
PRODID:-//ChamberMaster//Event Calendar 2.0//EN
METHOD:PUBLISH
X-PUBLISHED-TTL:P3D
REFRESH-INTERVAL:P3D
CALSCALE:GREGORIAN
BEGIN:VEVENT
DTSTART:20230313T180000Z
DTEND:20230313T200000Z
X-MICROSOFT-CDO-ALLDAYEVENT:FALSE
SUMMARY:Teen Gaming Drop-in
DESCRIPTION:Meet up at the library for gaming fun! Drop in to try VR\, WII or other popular games with fellow gamers. Try something new or get together to play your favorites. Snacks and drinks provided. Ages 11 & up.
X-ALT-DESC;FMTTYPE=text/html:Meet up at the library for gaming fun! Drop in to try VR\, WII or other popular games with fellow gamers. Try something new or get together to play your favorites. Snacks and drinks provided. Ages 11 &amp\; up.
LOCATION:615 Phillips Blvd. Sauk City\, WI 53583
UID:e.1184.29922
SEQUENCE:3
DTSTAMP:20260420T165529Z
URL:http://members.saukprairie.com/events/details/teen-gaming-drop-in-29922
END:VEVENT

END:VCALENDAR
