BEGIN:VCALENDAR
VERSION:2.0
PRODID:-//ChamberMaster//Event Calendar 2.0//EN
METHOD:PUBLISH
X-PUBLISHED-TTL:P3D
REFRESH-INTERVAL:P3D
CALSCALE:GREGORIAN
BEGIN:VEVENT
DTSTART:20170710T220000Z
DTEND:20170711T000000Z
X-MICROSOFT-CDO-ALLDAYEVENT:FALSE
SUMMARY:Teen Monday Movie
DESCRIPTION:Teens are welcome to join us for a free movie showing each month.\n\n\n\nIn July's selection\, a group of women show us what it's like to work at NASA in the 1960s. The movie is rated PG and runs 2 hours and 5 minutes.\n\n\n\nPlease call the library for the full title. Popcorn and bottled water will be served.
X-ALT-DESC;FMTTYPE=text/html:<p><span style="background-color:transparent\; color:rgb(0\, 0\, 0)\; font-family:arial\; font-size:11pt">Teens are welcome to join us for a free movie showing each month.<br />\n<br />\nIn July&rsquo\;s selection\, a group of women show us what it&rsquo\;s like to work at NASA in the 1960s. The movie is rated PG and runs 2 hours and 5 minutes.<br />\n<br />\nPlease call the library for the full title. Popcorn and bottled water will be served.</span></p>\n
LOCATION:515 Water Street Sauk City\, WI 53583 (608) 643-8346
UID:e.1184.11757
SEQUENCE:3
DTSTAMP:20260425T033939Z
URL:http://members.saukprairie.com/events/details/teen-monday-movie-11757
END:VEVENT

END:VCALENDAR
