BEGIN:VCALENDAR
VERSION:2.0
PRODID:-//ChamberMaster//Event Calendar 2.0//EN
METHOD:PUBLISH
X-PUBLISHED-TTL:P3D
REFRESH-INTERVAL:P3D
CALSCALE:GREGORIAN
BEGIN:VEVENT
DTSTART:20190903T233000Z
DTEND:20190904T003000Z
X-MICROSOFT-CDO-ALLDAYEVENT:FALSE
SUMMARY:Teen Tuesday: Banana Splits
DESCRIPTION:Build your own banana split at the Ruth Culver Community Library Tuesday\, September 3 at 6:30 p.m.  We'll have bananas\, ice cream and all the toppings! This event is especially for grades 6-12. Contact Meagan at 643-8318 with questions.
X-ALT-DESC;FMTTYPE=text/html:Build your own banana split at the Ruth Culver Community Library Tuesday\, September 3 at 6:30 p.m.&nbsp\; We&#39\;ll have bananas\, ice cream and all the toppings! This event is especially for grades 6-12. Contact Meagan at 643-8318 with questions.
LOCATION:Ruth Culver Community Library 540 Water Street\, Prairie du Sac
UID:e.1184.23135
SEQUENCE:3
DTSTAMP:20260423T113925Z
URL:http://members.saukprairie.com/events/details/teen-tuesday-banana-splits-23135
END:VEVENT

END:VCALENDAR
