BEGIN:VCALENDAR
VERSION:2.0
PRODID:-//ChamberMaster//Event Calendar 2.0//EN
METHOD:PUBLISH
X-PUBLISHED-TTL:P3D
REFRESH-INTERVAL:P3D
CALSCALE:GREGORIAN
BEGIN:VEVENT
DTSTART:20200212T003000Z
DTEND:20200212T013000Z
X-MICROSOFT-CDO-ALLDAYEVENT:FALSE
SUMMARY:Teen Tuesday: Body Spray & Perfume
DESCRIPTION:Make your own body spray or perfume at the Ruth Culver Community Library Tuesday\, February 11 at 6:30 p.m.  All supplies will be provided! This event is especially for grades 6-12. Contact Meagan at 643-8318 with questions.
X-ALT-DESC;FMTTYPE=text/html:Make your own body spray or perfume at the Ruth Culver Community Library Tuesday\, February 11 at 6:30 p.m.&nbsp\; All supplies will be provided! This event is especially for grades 6-12. Contact Meagan at 643-8318 with questions.
LOCATION:Ruth Culver Community Library 540 Water Street\, Prairie du Sac
UID:e.1184.23913
SEQUENCE:3
DTSTAMP:20260423T041503Z
URL:http://members.saukprairie.com/events/details/teen-tuesday-body-spray-perfume-23913
END:VEVENT

END:VCALENDAR
