BEGIN:VCALENDAR
VERSION:2.0
PRODID:-//ChamberMaster//Event Calendar 2.0//EN
METHOD:PUBLISH
X-PUBLISHED-TTL:P3D
REFRESH-INTERVAL:P3D
CALSCALE:GREGORIAN
BEGIN:VEVENT
DTSTART:20191113T003000Z
DTEND:20191113T013000Z
X-MICROSOFT-CDO-ALLDAYEVENT:FALSE
SUMMARY:Teen Tuesday: Brownie Fries
DESCRIPTION:Try brownie fries at the Ruth Culver Community Library Tuesday\, November 12 at 6:30 p.m.  We'll provide the "fries" for you to dip and decorate with chocolate\, sprinkles and more! This event is especially for grades 6-12. Contact Meagan at 643-8318 with questions.
X-ALT-DESC;FMTTYPE=text/html:Try brownie fries at the Ruth Culver Community Library Tuesday\, November 12 at 6:30 p.m.&nbsp\; We&#39\;ll provide the &quot\;fries&quot\; for you to dip and decorate with chocolate\, sprinkles and more! This event is especially for grades 6-12. Contact Meagan at 643-8318 with questions.
LOCATION:Ruth Culver Community Library 540 Water Street Prairie du Sac
UID:e.1184.23603
SEQUENCE:3
DTSTAMP:20260423T083803Z
URL:http://members.saukprairie.com/events/details/teen-tuesday-brownie-fries-23603
END:VEVENT

END:VCALENDAR
