BEGIN:VCALENDAR
VERSION:2.0
PRODID:-//ChamberMaster//Event Calendar 2.0//EN
METHOD:PUBLISH
X-PUBLISHED-TTL:P3D
REFRESH-INTERVAL:P3D
CALSCALE:GREGORIAN
BEGIN:VEVENT
DTSTART:20191211T003000Z
DTEND:20191211T013000Z
X-MICROSOFT-CDO-ALLDAYEVENT:FALSE
SUMMARY:Teen Tuesday: Buttons & Bath Bombs
DESCRIPTION:Make buttons and bath bombs...or whatever else you can dream up from the Ruth Culver Community Library's supply closet Tuesday\, December 10 at 6:30 p.m. This event is especially for grades 6-12. Contact Meagan at 643-8318 with questions.
X-ALT-DESC;FMTTYPE=text/html:Make buttons and bath bombs...or whatever else you can dream up from the Ruth Culver Community Library&#39\;s supply closet Tuesday\, December 10 at 6:30 p.m. This event is especially for grades 6-12. Contact Meagan at 643-8318 with questions.
LOCATION:Ruth Culver Community Library 540 Water Street Prairie du Sac
UID:e.1184.23605
SEQUENCE:3
DTSTAMP:20260423T070607Z
URL:http://members.saukprairie.com/events/details/teen-tuesday-buttons-bath-bombs-23605
END:VEVENT

END:VCALENDAR
