BEGIN:VCALENDAR
VERSION:2.0
PRODID:-//ChamberMaster//Event Calendar 2.0//EN
METHOD:PUBLISH
X-PUBLISHED-TTL:P3D
REFRESH-INTERVAL:P3D
CALSCALE:GREGORIAN
BEGIN:VEVENT
DTSTART;VALUE=DATE:20240227
DTEND;VALUE=DATE:20240228
TRANSP:TRANSPARENT
X-MICROSOFT-CDO-ALLDAYEVENT:TRUE
SUMMARY:Teen Tuesday: Chain Reactions
DESCRIPTION:Teen Tuesday:  Chain Reactions @ Ruth Culver Community Library in Prairie du Sac starting at 6:45 PM\n\n\n\nCreate chain reactions using dominoes\, craft sticks\, clothespins and more! This event is especially for grades 6-12. No registration is required unless you'd like to receive an email reminder.
X-ALT-DESC;FMTTYPE=text/html:Teen Tuesday:&nbsp\; Chain Reactions @ Ruth Culver Community Library in Prairie du Sac starting at 6:45 PM<br />\n<br />\nCreate chain reactions using dominoes\, craft sticks\, clothespins and more! This event is especially for grades 6-12. No registration is required unless you&#39\;d like to receive an email reminder.
LOCATION:Ruth Culver Community Library - Prairie du Sac
UID:e.1184.31495
SEQUENCE:3
DTSTAMP:20260420T003544Z
URL:http://members.saukprairie.com/events/details/teen-tuesday-chain-reactions-31495
END:VEVENT

END:VCALENDAR
