BEGIN:VCALENDAR
VERSION:2.0
PRODID:-//ChamberMaster//Event Calendar 2.0//EN
METHOD:PUBLISH
X-PUBLISHED-TTL:P3D
REFRESH-INTERVAL:P3D
CALSCALE:GREGORIAN
BEGIN:VEVENT
DTSTART:20200310T233000Z
DTEND:20200311T003000Z
X-MICROSOFT-CDO-ALLDAYEVENT:FALSE
SUMMARY:Teen Tuesday: Digital Sketching
DESCRIPTION:Experiment with digital sketching and coloring at the Ruth Culver Community Library Tuesday\, March 10 at 6:30pm.  We will have iPads and Apple pencils available for use. This event is especially for grades 6-12. Contact Meagan at 643-8318 with questions.
X-ALT-DESC;FMTTYPE=text/html:Experiment with digital sketching and coloring at the Ruth Culver Community Library Tuesday\, March 10 at 6:30pm.&nbsp\; We will have iPads and Apple pencils available for use. This event is especially for grades 6-12. Contact Meagan at 643-8318 with questions.
LOCATION:Ruth Culver Community Library 540 Water Street\, Prairie du Sac
UID:e.1184.24064
SEQUENCE:3
DTSTAMP:20260423T041400Z
URL:http://members.saukprairie.com/events/details/teen-tuesday-digital-sketching-24064
END:VEVENT

END:VCALENDAR
