BEGIN:VCALENDAR
VERSION:2.0
PRODID:-//ChamberMaster//Event Calendar 2.0//EN
METHOD:PUBLISH
X-PUBLISHED-TTL:P3D
REFRESH-INTERVAL:P3D
CALSCALE:GREGORIAN
BEGIN:VEVENT
DTSTART;VALUE=DATE:20240213
DTEND;VALUE=DATE:20240214
TRANSP:TRANSPARENT
X-MICROSOFT-CDO-ALLDAYEVENT:TRUE
SUMMARY:Teen Tuesday: Edible Cook Dough
DESCRIPTION:Teen Tuesday:  Edible Cookie Dough @ Ruth Culver Community Library in Prairie du Sac starting @ 6:45 PM\n\n\n\nMake edible versions of your favorite cookie doughs! (We will NOT be baking cookies\, just eating the eggless dough.) This event is especially for grades 6-12. No registration is required unless you'd like to receive an email reminder. Contact Meagan with allergy concerns.
X-ALT-DESC;FMTTYPE=text/html:Teen Tuesday:&nbsp\; Edible Cookie Dough @ Ruth Culver Community Library in Prairie du Sac starting @ 6:45 PM<br />\n<br />\nMake edible versions of your favorite cookie doughs! (We will NOT be baking cookies\, just eating the eggless dough.) This event is especially for grades 6-12. No registration is required unless you&#39\;d like to receive an email reminder. Contact Meagan with allergy concerns.&nbsp\;
LOCATION:Ruth Culver Community Library - Prairie du Sac
UID:e.1184.31527
SEQUENCE:3
DTSTAMP:20260420T003839Z
URL:http://members.saukprairie.com/events/details/teen-tuesday-edible-cook-dough-31527
END:VEVENT

END:VCALENDAR
