BEGIN:VCALENDAR
VERSION:2.0
PRODID:-//ChamberMaster//Event Calendar 2.0//EN
METHOD:PUBLISH
X-PUBLISHED-TTL:P3D
REFRESH-INTERVAL:P3D
CALSCALE:GREGORIAN
BEGIN:VEVENT
DTSTART:20190723T233000Z
DTEND:20190724T003000Z
X-MICROSOFT-CDO-ALLDAYEVENT:FALSE
SUMMARY:Teen Tuesday: Escape the Library
DESCRIPTION:Back by popular demand\, see if your team can crack the clues to escape the Ruth Culver Community Library Tuesday\, July 23 at 6:30 p.m.  Teen Tuesdays are especially for grades 6-12. Contact Meagan at 643-8318 with questions.
X-ALT-DESC;FMTTYPE=text/html:Back by popular demand\, see if your team can crack the clues to escape the Ruth Culver Community Library Tuesday\, July 23 at 6:30 p.m.&nbsp\; Teen Tuesdays are especially for grades 6-12. Contact Meagan at 643-8318 with questions.
LOCATION:Ruth Culver Community Library 540 Water Street\, Prairie du Sac
UID:e.1184.22347
SEQUENCE:3
DTSTAMP:20260423T141841Z
URL:http://members.saukprairie.com/events/details/teen-tuesday-escape-the-library-22347
END:VEVENT

END:VCALENDAR
