BEGIN:VCALENDAR
VERSION:2.0
PRODID:-//ChamberMaster//Event Calendar 2.0//EN
METHOD:PUBLISH
X-PUBLISHED-TTL:P3D
REFRESH-INTERVAL:P3D
CALSCALE:GREGORIAN
BEGIN:VEVENT
DTSTART:20200304T003000Z
DTEND:20200304T013000Z
X-MICROSOFT-CDO-ALLDAYEVENT:FALSE
SUMMARY:Teen Tuesday: Good in Chocolate?
DESCRIPTION:Pineapple...pretzels...Pringle's...what will taste best dipped in chocolate? Find out at the Ruth Culver Community Library Tuesday\, March 3 at 6:30pm.  We'll have plenty of chocolate and a variety of foods to dip.  This event is especially for grades 6-12. Contact Meagan at 643-8318 with questions.
X-ALT-DESC;FMTTYPE=text/html:<span style="background-color:rgb(255\, 255\, 255)\; color:inherit\; font-family:inherit\; font-size:inherit">Pineapple...pretzels...Pringle&rsquo\;s...what will taste best dipped in chocolate? </span>Find out at the Ruth Culver Community Library Tuesday\, March 3 at 6:30pm.&nbsp\; We&#39\;ll have plenty of chocolate and a variety of foods to dip.&nbsp\; This event is especially for grades 6-12. Contact Meagan at 643-8318 with questions.
LOCATION:Ruth Culver Community Library 540 Water Street\, Prairie du Sac
UID:e.1184.24062
SEQUENCE:3
DTSTAMP:20260423T041447Z
URL:http://members.saukprairie.com/events/details/teen-tuesday-good-in-chocolate-24062
END:VEVENT

END:VCALENDAR
