BEGIN:VCALENDAR
VERSION:2.0
PRODID:-//ChamberMaster//Event Calendar 2.0//EN
METHOD:PUBLISH
X-PUBLISHED-TTL:P3D
REFRESH-INTERVAL:P3D
CALSCALE:GREGORIAN
BEGIN:VEVENT
DTSTART:20200407T233000Z
DTEND:20200408T003000Z
X-MICROSOFT-CDO-ALLDAYEVENT:FALSE
SUMMARY:Teen Tuesday: Jellybean Mosaics
DESCRIPTION:Create your own edible mosaic using jellybeans at the Ruth Culver Community Library Tuesday\, April 7 at 6:30pm.  This event is especially for grades 6-12. Contact Meagan at 643-8318 with questions.
X-ALT-DESC;FMTTYPE=text/html:Create your own edible mosaic using jellybeans at the Ruth Culver Community Library Tuesday\, April 7 at 6:30pm.&nbsp\; This event is especially for grades 6-12. Contact Meagan at 643-8318 with questions.
LOCATION:Ruth Culver Community Library 540 Water Street\, Prairie du Sac
UID:e.1184.24065
SEQUENCE:3
DTSTAMP:20260423T012235Z
URL:http://members.saukprairie.com/events/details/teen-tuesday-jellybean-mosaics-24065
END:VEVENT

END:VCALENDAR
