BEGIN:VCALENDAR
VERSION:2.0
PRODID:-//ChamberMaster//Event Calendar 2.0//EN
METHOD:PUBLISH
X-PUBLISHED-TTL:P3D
REFRESH-INTERVAL:P3D
CALSCALE:GREGORIAN
BEGIN:VEVENT
DTSTART:20191204T003000Z
DTEND:20191204T013000Z
X-MICROSOFT-CDO-ALLDAYEVENT:FALSE
SUMMARY:Teen Tuesday: Krispie Treat Sculptures
DESCRIPTION:Make and decorate winter-themed sculptures using krispie treats at the Ruth Culver Community Library Tuesday\, December 3 at 6:30 p.m.  A variety of decorating supplies will be provided! This event is especially for grades 6-12. Contact Meagan at 643-8318 with questions.
X-ALT-DESC;FMTTYPE=text/html:Make and decorate winter-themed sculptures using krispie treats at the Ruth Culver Community Library Tuesday\, December 3 at 6:30 p.m.&nbsp\; A variety of decorating supplies will be provided! This event is especially for grades 6-12. Contact Meagan at 643-8318 with questions.
LOCATION:Ruth Culver Community Library 540 Water Street Prairie du Sac
UID:e.1184.23604
SEQUENCE:3
DTSTAMP:20260423T070622Z
URL:http://members.saukprairie.com/events/details/teen-tuesday-krispie-treat-sculptures-23604
END:VEVENT

END:VCALENDAR
