BEGIN:VCALENDAR
VERSION:2.0
PRODID:-//ChamberMaster//Event Calendar 2.0//EN
METHOD:PUBLISH
X-PUBLISHED-TTL:P3D
REFRESH-INTERVAL:P3D
CALSCALE:GREGORIAN
BEGIN:VEVENT
DTSTART:20191001T233000Z
DTEND:20191002T003000Z
X-MICROSOFT-CDO-ALLDAYEVENT:FALSE
SUMMARY:Teen Tuesday: Mini Pies
DESCRIPTION:We're hosting a Teen Tuesday mini pie bar at the Ruth Culver Community Library Tuesday\, October 1 at 6:30 p.m.  We'll provide the crusts\, fillings and toppings - you decide what goes in!  This event is especially for grades 6-12. Contact Meagan at 643-8318 with questions.
X-ALT-DESC;FMTTYPE=text/html:We&#39\;re hosting a Teen Tuesday mini pie bar at the Ruth Culver Community Library Tuesday\, October 1 at 6:30 p.m.&nbsp\; We&#39\;ll provide the crusts\, fillings and toppings - you decide what goes in!&nbsp\; This event is especially for grades 6-12. Contact Meagan at 643-8318 with questions.
LOCATION:Ruth Culver Community Library 540 Water Street\, Prairie du Sac
UID:e.1184.23144
SEQUENCE:3
DTSTAMP:20260423T100528Z
URL:http://members.saukprairie.com/events/details/teen-tuesday-mini-pies-23144
END:VEVENT

END:VCALENDAR
